BEGIN:VCALENDAR
VERSION:2.0
PRODID:-//Virginia Down Syndrome Association - ECPv6.15.17.1//NONSGML v1.0//EN
CALSCALE:GREGORIAN
METHOD:PUBLISH
X-ORIGINAL-URL:https://virginiadsa.org
X-WR-CALDESC:Events for Virginia Down Syndrome Association
REFRESH-INTERVAL;VALUE=DURATION:PT1H
X-Robots-Tag:noindex
X-PUBLISHED-TTL:PT1H
BEGIN:VTIMEZONE
TZID:America/New_York
BEGIN:DAYLIGHT
TZOFFSETFROM:-0500
TZOFFSETTO:-0400
TZNAME:EDT
DTSTART:20230312T070000
END:DAYLIGHT
BEGIN:STANDARD
TZOFFSETFROM:-0400
TZOFFSETTO:-0500
TZNAME:EST
DTSTART:20231105T060000
END:STANDARD
BEGIN:DAYLIGHT
TZOFFSETFROM:-0500
TZOFFSETTO:-0400
TZNAME:EDT
DTSTART:20240310T070000
END:DAYLIGHT
BEGIN:STANDARD
TZOFFSETFROM:-0400
TZOFFSETTO:-0500
TZNAME:EST
DTSTART:20241103T060000
END:STANDARD
BEGIN:DAYLIGHT
TZOFFSETFROM:-0500
TZOFFSETTO:-0400
TZNAME:EDT
DTSTART:20250309T070000
END:DAYLIGHT
BEGIN:STANDARD
TZOFFSETFROM:-0400
TZOFFSETTO:-0500
TZNAME:EST
DTSTART:20251102T060000
END:STANDARD
END:VTIMEZONE
BEGIN:VEVENT
DTSTART;TZID=America/New_York:20241018T123000
DTEND;TZID=America/New_York:20241018T133000
DTSTAMP:20260420T113759
CREATED:20240805T204500Z
LAST-MODIFIED:20240805T204500Z
UID:10001019-1729254600-1729258200@virginiadsa.org
SUMMARY:Richmond - Painting Class
DESCRIPTION:Richmond – Painting Class in Midlothian \n\nFridays\n12:30 to 1:30 pm\n$15 per person\nOpen to All Friends with Disabilities\nSept. 13\, Oct. 18\, Nov. 8 & Dec. 13\nArt Factory\, 4810 Market Square Ln\, Midlothian\n\nRegister here: \nhttps://virginiadsa.networkforgood.com/events/71081-richmond-painting-classes-at-the-art-factory-fall-2024
URL:https://virginiadsa.org/event/richmond-painting-class/
LOCATION:Virginia
CATEGORIES:Richmond
END:VEVENT
BEGIN:VEVENT
DTSTART;TZID=America/New_York:20241018T170000
DTEND;TZID=America/New_York:20241018T190000
DTSTAMP:20260420T113759
CREATED:20240808T174104Z
LAST-MODIFIED:20241016T002708Z
UID:10001049-1729270800-1729278000@virginiadsa.org
SUMMARY:Chesterfield- Children's Museum
DESCRIPTION:Join VDSA at the Sensory Friendly Nights at The Children’s Museum of Richmond \nFridays\, 5-7 pm \nSept 20 – Downtown \nOct. 18 – Chesterfield \nNov. 15 – Downtown \nNo charge \nSiblings welcome \nRegister here: \nhttps://virginiadsa.networkforgood.com/events/75209-richmond-sensory-night-at-the-children-s-museum
URL:https://virginiadsa.org/event/richmond-childrens-museum-2/
LOCATION:Virginia
CATEGORIES:Richmond
END:VEVENT
BEGIN:VEVENT
DTSTART;TZID=America/New_York:20241018T183000
DTEND;TZID=America/New_York:20241018T200000
DTSTAMP:20260420T113759
CREATED:20240831T172839Z
LAST-MODIFIED:20240831T172839Z
UID:10001068-1729276200-1729281600@virginiadsa.org
SUMMARY:Fredericksburg Dads' Night Out
DESCRIPTION:Fredericksburg Dads’ Night Out \nOct 18 at 6:30 pm \nMcAlister’s Deli \nHarrison Crossing 5621 Plank Rd\, Fredericksburg\, VA 22407 \nRegister: \nhttps://virginiadsa.networkforgood.com/events/76204-fredericksburg-mom-and-dads-night-out-fall-2024
URL:https://virginiadsa.org/event/fredericksburg-dads-night-out-2/
LOCATION:Virginia
END:VEVENT
BEGIN:VEVENT
DTSTART;TZID=America/New_York:20241018T183000
DTEND;TZID=America/New_York:20241018T203000
DTSTAMP:20260420T113759
CREATED:20240805T202128Z
LAST-MODIFIED:20240805T202128Z
UID:10001016-1729276200-1729283400@virginiadsa.org
SUMMARY:Charlottesville Moms' Night Out
DESCRIPTION:Charlottesville Moms’ Night Out \nFall 2024 \nAll Friday nights at 6:30 pm \nSept. 27 – La Zeez\, Modern Indian Fair\, 401 E. Main St.\, Charlottesville \nOct. 18 – Burton’s Grill and Bar\, 3530 W. Cary St. \nNov. 1 – Fardowners\, 5773 The Square\, Crozet \nRegister here: https://virginiadsa.networkforgood.com/events/74979-charlottesville-moms-night-outs-aug-nov-2024
URL:https://virginiadsa.org/event/charlottesville-moms-night-out-9/
LOCATION:Virginia
CATEGORIES:Charlottesville,Moms
END:VEVENT
BEGIN:VEVENT
DTSTART;TZID=America/New_York:20241018T183000
DTEND;TZID=America/New_York:20241018T203000
DTSTAMP:20260420T113759
CREATED:20240805T223034Z
LAST-MODIFIED:20240807T224351Z
UID:10001023-1729276200-1729283400@virginiadsa.org
SUMMARY:Richmond - Moms' Night Out\, Richmond city
DESCRIPTION:Join other Moms for a Dinner out for good food and conversation. Everyone pays for their own meal. \nAll start at 6:30 pm. \nFriday\, August 9 – Midlothian – Charred – 13451 Hull Street Rd N\, Midlothian\, VA 23112 \nFriday\, Sept. 27 – Forest Hill – Maldini’s Ristorante Pizzeria\, 4811 Forest Hill Ave\, Richmond\, VA 23225 \nFriday\, October 18 – Richmond\, Brambly Park\, 708 Belleville St\, Richmond\, VA 23230 \nFriday\, November 1 – Short Pump – West Coast Provisions\, 301 Maltby Blvd\, Henrico\, VA 23233 \nFriday\, November 22 – Midlothian – Yamato Japanese Steakhouse\, 13607 Hull Street Rd\, Midlothian\, VA 23112 \nHope you can join us! \nRegister here: \nhttps://virginiadsa.networkforgood.com/events/71054-moms-night-out-greater-richmond-2024
URL:https://virginiadsa.org/event/richmond-moms-night-out-2/
LOCATION:Virginia
CATEGORIES:Richmond
END:VEVENT
END:VCALENDAR