BEGIN:VCALENDAR
VERSION:2.0
PRODID:-//Virginia Down Syndrome Association - ECPv6.15.17.1//NONSGML v1.0//EN
CALSCALE:GREGORIAN
METHOD:PUBLISH
X-ORIGINAL-URL:https://virginiadsa.org
X-WR-CALDESC:Events for Virginia Down Syndrome Association
REFRESH-INTERVAL;VALUE=DURATION:PT1H
X-Robots-Tag:noindex
X-PUBLISHED-TTL:PT1H
BEGIN:VTIMEZONE
TZID:America/New_York
BEGIN:DAYLIGHT
TZOFFSETFROM:-0500
TZOFFSETTO:-0400
TZNAME:EDT
DTSTART:20240310T070000
END:DAYLIGHT
BEGIN:STANDARD
TZOFFSETFROM:-0400
TZOFFSETTO:-0500
TZNAME:EST
DTSTART:20241103T060000
END:STANDARD
BEGIN:DAYLIGHT
TZOFFSETFROM:-0500
TZOFFSETTO:-0400
TZNAME:EDT
DTSTART:20250309T070000
END:DAYLIGHT
BEGIN:STANDARD
TZOFFSETFROM:-0400
TZOFFSETTO:-0500
TZNAME:EST
DTSTART:20251102T060000
END:STANDARD
BEGIN:DAYLIGHT
TZOFFSETFROM:-0500
TZOFFSETTO:-0400
TZNAME:EDT
DTSTART:20260308T070000
END:DAYLIGHT
BEGIN:STANDARD
TZOFFSETFROM:-0400
TZOFFSETTO:-0500
TZNAME:EST
DTSTART:20261101T060000
END:STANDARD
END:VTIMEZONE
BEGIN:VEVENT
DTSTART;TZID=America/New_York:20250207T120000
DTEND;TZID=America/New_York:20250207T130000
DTSTAMP:20260420T063849
CREATED:20250106T192010Z
LAST-MODIFIED:20250106T192010Z
UID:10001215-1738929600-1738933200@virginiadsa.org
SUMMARY:Virtual - Comprehensive Caregiver Support (Formerly Diagnosis+) Feb '25 Session
DESCRIPTION:Connect with other caregivers and individuals with a dual diagnosis in a loosely facilitated discussion format. Virtual on Zoom. \nFebruary 7th 12-1pm \nRegister here to join the conversation!
URL:https://virginiadsa.org/event/virtual-comprehensive-caregiver-support-formerly-diagnosis-feb-25-session/
LOCATION:Zoom
CATEGORIES:Caregiver Support,Moms,Virtual
END:VEVENT
END:VCALENDAR