BEGIN:VCALENDAR
VERSION:2.0
PRODID:-//Virginia Down Syndrome Association - ECPv6.15.17.1//NONSGML v1.0//EN
CALSCALE:GREGORIAN
METHOD:PUBLISH
X-WR-CALNAME:Virginia Down Syndrome Association
X-ORIGINAL-URL:https://virginiadsa.org
X-WR-CALDESC:Events for Virginia Down Syndrome Association
REFRESH-INTERVAL;VALUE=DURATION:PT1H
X-Robots-Tag:noindex
X-PUBLISHED-TTL:PT1H
BEGIN:VTIMEZONE
TZID:America/New_York
BEGIN:DAYLIGHT
TZOFFSETFROM:-0500
TZOFFSETTO:-0400
TZNAME:EDT
DTSTART:20240310T070000
END:DAYLIGHT
BEGIN:STANDARD
TZOFFSETFROM:-0400
TZOFFSETTO:-0500
TZNAME:EST
DTSTART:20241103T060000
END:STANDARD
BEGIN:DAYLIGHT
TZOFFSETFROM:-0500
TZOFFSETTO:-0400
TZNAME:EDT
DTSTART:20250309T070000
END:DAYLIGHT
BEGIN:STANDARD
TZOFFSETFROM:-0400
TZOFFSETTO:-0500
TZNAME:EST
DTSTART:20251102T060000
END:STANDARD
BEGIN:DAYLIGHT
TZOFFSETFROM:-0500
TZOFFSETTO:-0400
TZNAME:EDT
DTSTART:20260308T070000
END:DAYLIGHT
BEGIN:STANDARD
TZOFFSETFROM:-0400
TZOFFSETTO:-0500
TZNAME:EST
DTSTART:20261101T060000
END:STANDARD
END:VTIMEZONE
BEGIN:VEVENT
DTSTART;TZID=America/New_York:20250301T110000
DTEND;TZID=America/New_York:20250301T130000
DTSTAMP:20260420T094836
CREATED:20250211T205550Z
LAST-MODIFIED:20250211T205550Z
UID:10001251-1740826800-1740834000@virginiadsa.org
SUMMARY:TriCities Keystone Truck and Tractor Museum
DESCRIPTION:Come see the Trucks and Tractors!!\nJoin VDSA at Keystone Truck and Tractor Museum in Colonial Heights for a tour\, craft and meal. \n\n880 W. Roslyn Rd. Colonial Heights\, VA 23834 \nMarch 1st\, 11:00 – 1:00 pm \nIndividual with Down syndrome is Free \n\nTour the museum\nDo a craft\nPack a lunch to share together or Buy your own meal at the Diner\n\nHave questions? Contact mfreds@virginiadsa.org \nRegister Here: TriCities Keystone Truck and Tractor Museum
URL:https://virginiadsa.org/event/tricities-keystone-truck-and-tractor-museum/
LOCATION:Keystone Truck and Tractor Museum\, 880 W Roslyn Rd\, Colonial Heights\, 23834\, United States
CATEGORIES:Event,Family,TriCities
END:VEVENT
BEGIN:VEVENT
DTSTART;TZID=America/New_York:20250321T190000
DTEND;TZID=America/New_York:20250321T210000
DTSTAMP:20260420T094836
CREATED:20250311T183232Z
LAST-MODIFIED:20250311T183835Z
UID:10001340-1742583600-1742590800@virginiadsa.org
SUMMARY:VDSA Goes to the Movies
DESCRIPTION:Join VDSA in Observing World Down Syndrome Day at Regal West Tower Theater for a Screening of Snow White! \nThe movie starts at 7:00 pm\, but we will be there at 6:00 pm to start the celebration!! \n  \nRegister Here: \nhttps://virginiadsa.networkforgood.com/events/84362-vdsa-goes-to-the-movies \n 
URL:https://virginiadsa.org/event/vdsa-goes-to-the-movies/
LOCATION:Regal West Tower\, Regal West Tower\, Richmond\, Virginia\, 23294
CATEGORIES:Adventurers (Ages 6 to 12),Event,Family,Fun4Life - Ages 21+,FunQuest (Ages 13-20),Grandparents,Hands Up - (Ages baby to 5),Hispanic,Latinos,Moms,Richmond,Social
END:VEVENT
BEGIN:VEVENT
DTSTART;TZID=America/New_York:20250322T180000
DTEND;TZID=America/New_York:20250322T200000
DTSTAMP:20260420T094836
CREATED:20250305T163506Z
LAST-MODIFIED:20250313T180031Z
UID:10001331-1742666400-1742673600@virginiadsa.org
SUMMARY:Tri-city Rock Your Socks WDSD Celebration
DESCRIPTION:Party March 22 6-8pm. Bring or wear your most funky socks (we will have some to purchase\, as well). Bring your favorite craft\, or toys to share. Boys bring a sweet snack\, Girls bring a salty snack. I will provide lemonade\, sweet tea and water. \n  \nResister here: \nhttps://virginiadsa.networkforgood.com/events/84028-rock-your-socks-wdsd-celebration \n 
URL:https://virginiadsa.org/event/rock-your-socks-wdsd-celebration/
LOCATION:Deborah School of Dance\, 5908 Boydton Plank Rd.\, Petersburg\, VA\, 23803
CATEGORIES:Event,Family,Social,TriCities
END:VEVENT
BEGIN:VEVENT
DTSTART;TZID=America/New_York:20250327T170000
DTEND;TZID=America/New_York:20250327T200000
DTSTAMP:20260420T094836
CREATED:20250306T193509Z
LAST-MODIFIED:20250306T193509Z
UID:10001332-1743094800-1743105600@virginiadsa.org
SUMMARY:Tri-Cities Holiday Bowl - Family Style
DESCRIPTION:Join VDSA for a fun family night of bowling at Holiday Bowl located at 11400 Jefferson Davis Highway on March 27th from 5pm to 8pm! $5.25/bowler/game and $4 for shoes. \nWe hope to see you there! \nHave questions? Contact mfreds@virginiadsa.org
URL:https://virginiadsa.org/event/tri-cities-holiday-bowl-family-style/
LOCATION:Holiday Bowl\, 11400 Jefferson Davis Highway\, Chester\, 23237\, United States
CATEGORIES:Event,Family,TriCities
END:VEVENT
BEGIN:VEVENT
DTSTART;TZID=America/New_York:20250330T140000
DTEND;TZID=America/New_York:20250330T160000
DTSTAMP:20260420T094836
CREATED:20250306T194644Z
LAST-MODIFIED:20250306T194949Z
UID:10001333-1743343200-1743350400@virginiadsa.org
SUMMARY:Tri-cities Family Day Out
DESCRIPTION:Join us for a stroll along the riverwalk (1 way path with only 1 exit to stop our elopers and enjoy the walk). After walk\, we can play on the playgrounds. Next\, we can walk up to City Point Ice Cream and Burgers for some dinner and/or dessert (236 E. Broadway Hopewell).
URL:https://virginiadsa.org/event/tri-cities-family-day-out/
LOCATION:205 Appomattox St Hopewell\, VA 23860\, 205 Appomattox St\, Hopewell\, Virginia\, 23860
CATEGORIES:Event,Family,Social,TriCities
END:VEVENT
END:VCALENDAR