BEGIN:VCALENDAR
VERSION:2.0
PRODID:-//Virginia Down Syndrome Association - ECPv6.15.17.1//NONSGML v1.0//EN
CALSCALE:GREGORIAN
METHOD:PUBLISH
X-ORIGINAL-URL:https://virginiadsa.org
X-WR-CALDESC:Events for Virginia Down Syndrome Association
REFRESH-INTERVAL;VALUE=DURATION:PT1H
X-Robots-Tag:noindex
X-PUBLISHED-TTL:PT1H
BEGIN:VTIMEZONE
TZID:America/New_York
BEGIN:DAYLIGHT
TZOFFSETFROM:-0500
TZOFFSETTO:-0400
TZNAME:EDT
DTSTART:20220313T070000
END:DAYLIGHT
BEGIN:STANDARD
TZOFFSETFROM:-0400
TZOFFSETTO:-0500
TZNAME:EST
DTSTART:20221106T060000
END:STANDARD
BEGIN:DAYLIGHT
TZOFFSETFROM:-0500
TZOFFSETTO:-0400
TZNAME:EDT
DTSTART:20230312T070000
END:DAYLIGHT
BEGIN:STANDARD
TZOFFSETFROM:-0400
TZOFFSETTO:-0500
TZNAME:EST
DTSTART:20231105T060000
END:STANDARD
BEGIN:DAYLIGHT
TZOFFSETFROM:-0500
TZOFFSETTO:-0400
TZNAME:EDT
DTSTART:20240310T070000
END:DAYLIGHT
BEGIN:STANDARD
TZOFFSETFROM:-0400
TZOFFSETTO:-0500
TZNAME:EST
DTSTART:20241103T060000
END:STANDARD
END:VTIMEZONE
BEGIN:VEVENT
DTSTART;TZID=America/New_York:20230211T103000
DTEND;TZID=America/New_York:20230211T120000
DTSTAMP:20260420T113215
CREATED:20230102T235522Z
LAST-MODIFIED:20230102T235522Z
UID:10000122-1676111400-1676116800@virginiadsa.org
SUMMARY:Family Valentine's Party
DESCRIPTION:Family Valentines Day Party \nat The Heights Baptist Church\, Colonial Heights Campus\,17201 Jefferson Davis Hwy\, South Chesterfield\, VA 23834 \nSaturday\, Feb. 11th from 10:30 am – Noon \nArt led by Art on Wheels\, Music\, snacks and more! \nSiblings\, grandparents and all family members welcome! \nAll ages welcome! \nFREE \nRegister here: https://virginiadsa.salsalabs.org/FamilyValentinesParty2023
URL:https://virginiadsa.org/event/family-valentines-party/
CATEGORIES:Family,Richmond,Social
END:VEVENT
END:VCALENDAR