BEGIN:VCALENDAR
VERSION:2.0
PRODID:-//Virginia Down Syndrome Association - ECPv6.15.17.1//NONSGML v1.0//EN
CALSCALE:GREGORIAN
METHOD:PUBLISH
X-ORIGINAL-URL:https://virginiadsa.org
X-WR-CALDESC:Events for Virginia Down Syndrome Association
REFRESH-INTERVAL;VALUE=DURATION:PT1H
X-Robots-Tag:noindex
X-PUBLISHED-TTL:PT1H
BEGIN:VTIMEZONE
TZID:America/New_York
BEGIN:DAYLIGHT
TZOFFSETFROM:-0500
TZOFFSETTO:-0400
TZNAME:EDT
DTSTART:20240310T070000
END:DAYLIGHT
BEGIN:STANDARD
TZOFFSETFROM:-0400
TZOFFSETTO:-0500
TZNAME:EST
DTSTART:20241103T060000
END:STANDARD
BEGIN:DAYLIGHT
TZOFFSETFROM:-0500
TZOFFSETTO:-0400
TZNAME:EDT
DTSTART:20250309T070000
END:DAYLIGHT
BEGIN:STANDARD
TZOFFSETFROM:-0400
TZOFFSETTO:-0500
TZNAME:EST
DTSTART:20251102T060000
END:STANDARD
BEGIN:DAYLIGHT
TZOFFSETFROM:-0500
TZOFFSETTO:-0400
TZNAME:EDT
DTSTART:20260308T070000
END:DAYLIGHT
BEGIN:STANDARD
TZOFFSETFROM:-0400
TZOFFSETTO:-0500
TZNAME:EST
DTSTART:20261101T060000
END:STANDARD
END:VTIMEZONE
BEGIN:VEVENT
DTSTART;TZID=America/New_York:20250725T123000
DTEND;TZID=America/New_York:20250725T133000
DTSTAMP:20260420T114318
CREATED:20250801T182212Z
LAST-MODIFIED:20250801T182212Z
UID:10002297-1753446600-1753450200@virginiadsa.org
SUMMARY:Richmond – Painting Class
DESCRIPTION:Every other Friday During the Summer Months \n12:30 to 1:30 pm \n$15 per person \nOpen to All Friends with Disabilities \nDates: June 13 & 27 – July 11 & 25 – August 8 & 22 \nArt Factory\, 4810 Market Square Ln\, Midlothian \nRegister here: \nhttps://virginiadsa.networkforgood.com/events/83873-richmond-painting-classes-at-the-art-factory-summer-2025 \n 
URL:https://virginiadsa.org/event/richmond-painting-class-8/2025-07-25/
LOCATION:Art Factory\, \, 4810 Market Square Ln\, Midlothian\, VA\, 23112
CATEGORIES:21 Shades of Virginia,Adventurers (Ages 6 to 12),Event,Family,Fun4Life - Ages 21+,FunQuest (Ages 13-20),Hispanic,Latinos,Moms,Richmond,Social,TriCities,Williamsburg
END:VEVENT
BEGIN:VEVENT
DTSTART;TZID=America/New_York:20250725T170000
DTEND;TZID=America/New_York:20250725T200000
DTSTAMP:20260420T114318
CREATED:20250722T182413Z
LAST-MODIFIED:20250722T182413Z
UID:10002291-1753462800-1753473600@virginiadsa.org
SUMMARY:Tri-Cities Holiday Bowl - Family Style
DESCRIPTION:Join VDSA for a fun family night of bowling at Holiday Bowl located at 11400 Jefferson Davis Highway on July 25th from 5pm to 8pm! $5.25/bowler/game and $4 for shoes. \nWe hope to see you there! \nHave questions? Contact mfreds@virginiadsa.org \nClick HERE to register now!
URL:https://virginiadsa.org/event/tri-cities-holiday-bowl-family-style-2/
LOCATION:Holiday Bowl\, 11400 Jefferson Davis Highway\, Chester\, 23237\, United States
CATEGORIES:Event,Family,TriCities
END:VEVENT
END:VCALENDAR