BEGIN:VCALENDAR
VERSION:2.0
PRODID:-//Virginia Down Syndrome Association - ECPv6.15.17.1//NONSGML v1.0//EN
CALSCALE:GREGORIAN
METHOD:PUBLISH
X-ORIGINAL-URL:https://virginiadsa.org
X-WR-CALDESC:Events for Virginia Down Syndrome Association
REFRESH-INTERVAL;VALUE=DURATION:PT1H
X-Robots-Tag:noindex
X-PUBLISHED-TTL:PT1H
BEGIN:VTIMEZONE
TZID:America/New_York
BEGIN:DAYLIGHT
TZOFFSETFROM:-0500
TZOFFSETTO:-0400
TZNAME:EDT
DTSTART:20210314T070000
END:DAYLIGHT
BEGIN:STANDARD
TZOFFSETFROM:-0400
TZOFFSETTO:-0500
TZNAME:EST
DTSTART:20211107T060000
END:STANDARD
BEGIN:DAYLIGHT
TZOFFSETFROM:-0500
TZOFFSETTO:-0400
TZNAME:EDT
DTSTART:20220313T070000
END:DAYLIGHT
BEGIN:STANDARD
TZOFFSETFROM:-0400
TZOFFSETTO:-0500
TZNAME:EST
DTSTART:20221106T060000
END:STANDARD
BEGIN:DAYLIGHT
TZOFFSETFROM:-0500
TZOFFSETTO:-0400
TZNAME:EDT
DTSTART:20230312T070000
END:DAYLIGHT
BEGIN:STANDARD
TZOFFSETFROM:-0400
TZOFFSETTO:-0500
TZNAME:EST
DTSTART:20231105T060000
END:STANDARD
END:VTIMEZONE
BEGIN:VEVENT
DTSTART;TZID=America/New_York:20221130T173000
DTEND;TZID=America/New_York:20221130T183000
DTSTAMP:20260419T121552
CREATED:20221110T214008Z
LAST-MODIFIED:20221110T214008Z
UID:10000038-1669829400-1669833000@virginiadsa.org
SUMMARY:Electrical Safety with Dominion Energy - all ages
DESCRIPTION:Learn about electrical safety with Dominion Energy\, 5:30-6:30pm\, Wednesday November 30. \n 
URL:https://virginiadsa.org/event/electrical-safety-with-dominion-energy-all-ages/
LOCATION:VDSA\, 1504 Santa Rosa Road\, Suite 124\, Richmond\, VA\, 23229
CATEGORIES:Adventurers (Ages 6 to 12),Education,Fun4Life - Ages 21+,FunQuest (Ages 13-20),Hands Up - (Ages baby to 5),Richmond
END:VEVENT
END:VCALENDAR