BEGIN:VCALENDAR
VERSION:2.0
PRODID:-//Virginia Down Syndrome Association - ECPv6.15.17.1//NONSGML v1.0//EN
CALSCALE:GREGORIAN
METHOD:PUBLISH
X-WR-CALNAME:Virginia Down Syndrome Association
X-ORIGINAL-URL:https://virginiadsa.org
X-WR-CALDESC:Events for Virginia Down Syndrome Association
REFRESH-INTERVAL;VALUE=DURATION:PT1H
X-Robots-Tag:noindex
X-PUBLISHED-TTL:PT1H
BEGIN:VTIMEZONE
TZID:America/New_York
BEGIN:DAYLIGHT
TZOFFSETFROM:-0500
TZOFFSETTO:-0400
TZNAME:EDT
DTSTART:20220313T070000
END:DAYLIGHT
BEGIN:STANDARD
TZOFFSETFROM:-0400
TZOFFSETTO:-0500
TZNAME:EST
DTSTART:20221106T060000
END:STANDARD
BEGIN:DAYLIGHT
TZOFFSETFROM:-0500
TZOFFSETTO:-0400
TZNAME:EDT
DTSTART:20230312T070000
END:DAYLIGHT
BEGIN:STANDARD
TZOFFSETFROM:-0400
TZOFFSETTO:-0500
TZNAME:EST
DTSTART:20231105T060000
END:STANDARD
BEGIN:DAYLIGHT
TZOFFSETFROM:-0500
TZOFFSETTO:-0400
TZNAME:EDT
DTSTART:20240310T070000
END:DAYLIGHT
BEGIN:STANDARD
TZOFFSETFROM:-0400
TZOFFSETTO:-0500
TZNAME:EST
DTSTART:20241103T060000
END:STANDARD
END:VTIMEZONE
BEGIN:VEVENT
DTSTART;TZID=America/New_York:20230124T130000
DTEND;TZID=America/New_York:20230124T140000
DTSTAMP:20260419T090250
CREATED:20230106T202542Z
LAST-MODIFIED:20230106T202806Z
UID:10000129-1674565200-1674568800@virginiadsa.org
SUMMARY:Week Day Play Group
DESCRIPTION:Week Day Play Group for ages baby to 5 yrs old\nThe first two will be on Jan 17 and Jan 24 at 1 pm \nat the Virginia Down Syndrome Association office\, 1504 Santa Rosa Rd. Suite 124\, Richmond\, VA 23229 \nCome meet other moms while the kids play.  Siblings Welcome. \nAdditional dates and locations will be added in February. If you have locations to suggest\, please feel free to reach out to me dzedd@virginiadsa.org. \nRegister: https://virginiadsa.salsalabs.org/WeekDayPlayGroup
URL:https://virginiadsa.org/event/week-day-play-group/2023-01-24/
LOCATION:VA
CATEGORIES:Hands Up - (Ages baby to 5),Richmond,Social
END:VEVENT
BEGIN:VEVENT
DTSTART;TZID=America/New_York:20230124T183000
DTEND;TZID=America/New_York:20230124T193000
DTSTAMP:20260419T090250
CREATED:20230101T184820Z
LAST-MODIFIED:20230116T141318Z
UID:10000121-1674585000-1674588600@virginiadsa.org
SUMMARY:Diagnosis + with ASCV
DESCRIPTION:Come join us for a new peer-led group of caregivers of individuals of all ages with multiple diagnoses\, including developmental and medical diagnoses\, hosted by the Virginia Down Syndrome Association (previously DSAGR) and the Autism Society of Central Virginia \nRegister at – https://virginiadsa.salsalabs.org/diagnosisplusjan24
URL:https://virginiadsa.org/event/diagnosis-with-ascv/
LOCATION:Zoom
CATEGORIES:Adventurers (Ages 6 to 12),Education,Fun4Life - Ages 21+,FunQuest (Ages 13-20),Hands Up - (Ages baby to 5)
END:VEVENT
END:VCALENDAR