BEGIN:VCALENDAR
VERSION:2.0
PRODID:-//Virginia Down Syndrome Association - ECPv6.15.17.1//NONSGML v1.0//EN
CALSCALE:GREGORIAN
METHOD:PUBLISH
X-ORIGINAL-URL:https://virginiadsa.org
X-WR-CALDESC:Events for Virginia Down Syndrome Association
REFRESH-INTERVAL;VALUE=DURATION:PT1H
X-Robots-Tag:noindex
X-PUBLISHED-TTL:PT1H
BEGIN:VTIMEZONE
TZID:America/New_York
BEGIN:DAYLIGHT
TZOFFSETFROM:-0500
TZOFFSETTO:-0400
TZNAME:EDT
DTSTART:20220313T070000
END:DAYLIGHT
BEGIN:STANDARD
TZOFFSETFROM:-0400
TZOFFSETTO:-0500
TZNAME:EST
DTSTART:20221106T060000
END:STANDARD
BEGIN:DAYLIGHT
TZOFFSETFROM:-0500
TZOFFSETTO:-0400
TZNAME:EDT
DTSTART:20230312T070000
END:DAYLIGHT
BEGIN:STANDARD
TZOFFSETFROM:-0400
TZOFFSETTO:-0500
TZNAME:EST
DTSTART:20231105T060000
END:STANDARD
BEGIN:DAYLIGHT
TZOFFSETFROM:-0500
TZOFFSETTO:-0400
TZNAME:EDT
DTSTART:20240310T070000
END:DAYLIGHT
BEGIN:STANDARD
TZOFFSETFROM:-0400
TZOFFSETTO:-0500
TZNAME:EST
DTSTART:20241103T060000
END:STANDARD
END:VTIMEZONE
BEGIN:VEVENT
DTSTART;TZID=America/New_York:20230317T170000
DTEND;TZID=America/New_York:20230317T190000
DTSTAMP:20260420T100659
CREATED:20230223T211747Z
LAST-MODIFIED:20230223T211747Z
UID:10000289-1679072400-1679079600@virginiadsa.org
SUMMARY:Special Night at the Children's Museum of Richmond
DESCRIPTION:Special Night at the Children’s Museum of Richmond \nJoin VDSA and the disability community for a Special Night on March 17 from 5-7 pm. \n\nReduced Noise\nLower Lighting\nSensory Activities\nCool Down Area\n\nDowntown Location: 2626 West Broad St.\, Richmond\, VA 23220 \nRegister here:  https://virginiadsa.salsalabs.org/SpecialNightChildrensMuseumofRichmond32023
URL:https://virginiadsa.org/event/special-night-at-the-childrens-museum-of-richmond/
CATEGORIES:Family,Richmond
END:VEVENT
END:VCALENDAR