BEGIN:VCALENDAR
VERSION:2.0
PRODID:-//Virginia Down Syndrome Association - ECPv6.15.17.1//NONSGML v1.0//EN
CALSCALE:GREGORIAN
METHOD:PUBLISH
X-ORIGINAL-URL:https://virginiadsa.org
X-WR-CALDESC:Events for Virginia Down Syndrome Association
REFRESH-INTERVAL;VALUE=DURATION:PT1H
X-Robots-Tag:noindex
X-PUBLISHED-TTL:PT1H
BEGIN:VTIMEZONE
TZID:America/New_York
BEGIN:DAYLIGHT
TZOFFSETFROM:-0500
TZOFFSETTO:-0400
TZNAME:EDT
DTSTART:20220313T070000
END:DAYLIGHT
BEGIN:STANDARD
TZOFFSETFROM:-0400
TZOFFSETTO:-0500
TZNAME:EST
DTSTART:20221106T060000
END:STANDARD
BEGIN:DAYLIGHT
TZOFFSETFROM:-0500
TZOFFSETTO:-0400
TZNAME:EDT
DTSTART:20230312T070000
END:DAYLIGHT
BEGIN:STANDARD
TZOFFSETFROM:-0400
TZOFFSETTO:-0500
TZNAME:EST
DTSTART:20231105T060000
END:STANDARD
BEGIN:DAYLIGHT
TZOFFSETFROM:-0500
TZOFFSETTO:-0400
TZNAME:EDT
DTSTART:20240310T070000
END:DAYLIGHT
BEGIN:STANDARD
TZOFFSETFROM:-0400
TZOFFSETTO:-0500
TZNAME:EST
DTSTART:20241103T060000
END:STANDARD
END:VTIMEZONE
BEGIN:VEVENT
DTSTART;TZID=America/New_York:20230319T183000
DTEND;TZID=America/New_York:20230319T193000
DTSTAMP:20260420T114214
CREATED:20230222T172627Z
LAST-MODIFIED:20230222T174044Z
UID:10000280-1679250600-1679254200@virginiadsa.org
SUMMARY:RVA - Moms' Night Out at Cafe Del Barco
DESCRIPTION:Moms Night Out \nLeave kids at home and come out and enjoy conversation with other moms. \nSunday \,March 19 at 6:30 pm at Café Del Barco \n11500 Midlothian Turnpike #2021\, Richmond\, VA 23235 \nRegister here: https://virginiadsa.salsalabs.org/MomsNightOutMarch2023
URL:https://virginiadsa.org/event/moms-night-out-at-cafe-del-barco/
CATEGORIES:Moms,Richmond
END:VEVENT
END:VCALENDAR