BEGIN:VCALENDAR
VERSION:2.0
PRODID:-//Virginia Down Syndrome Association - ECPv6.15.17.1//NONSGML v1.0//EN
CALSCALE:GREGORIAN
METHOD:PUBLISH
X-ORIGINAL-URL:https://virginiadsa.org
X-WR-CALDESC:Events for Virginia Down Syndrome Association
REFRESH-INTERVAL;VALUE=DURATION:PT1H
X-Robots-Tag:noindex
X-PUBLISHED-TTL:PT1H
BEGIN:VTIMEZONE
TZID:America/New_York
BEGIN:DAYLIGHT
TZOFFSETFROM:-0500
TZOFFSETTO:-0400
TZNAME:EDT
DTSTART:20230312T070000
END:DAYLIGHT
BEGIN:STANDARD
TZOFFSETFROM:-0400
TZOFFSETTO:-0500
TZNAME:EST
DTSTART:20231105T060000
END:STANDARD
BEGIN:DAYLIGHT
TZOFFSETFROM:-0500
TZOFFSETTO:-0400
TZNAME:EDT
DTSTART:20240310T070000
END:DAYLIGHT
BEGIN:STANDARD
TZOFFSETFROM:-0400
TZOFFSETTO:-0500
TZNAME:EST
DTSTART:20241103T060000
END:STANDARD
BEGIN:DAYLIGHT
TZOFFSETFROM:-0500
TZOFFSETTO:-0400
TZNAME:EDT
DTSTART:20250309T070000
END:DAYLIGHT
BEGIN:STANDARD
TZOFFSETFROM:-0400
TZOFFSETTO:-0500
TZNAME:EST
DTSTART:20251102T060000
END:STANDARD
END:VTIMEZONE
BEGIN:VEVENT
DTSTART;TZID=America/New_York:20241108T090000
DTEND;TZID=America/New_York:20241108T140000
DTSTAMP:20260420T063754
CREATED:20240808T141137Z
LAST-MODIFIED:20240927T180739Z
UID:10001042-1731056400-1731074400@virginiadsa.org
SUMMARY:Richmond - T21 Golf Tournament 2024
DESCRIPTION:Join us for the 2024 T21 Golf Tournament!\nJoin us for the 2024 T21 Golf Tournament benefitting the Virginia Down Syndrome Association. Tee off at 9:00 a.m. on Friday\, November 8th at the Sycamore Creek Golf Course. All greens fees\, carts and lunch are included in the cost.\n\nAny questions or to sponsor\, contact Mike Baum\, mbaum@virginiadsa.org \nQuestions? Contact Tournament Director\, Billy Hamm: billhamm117@gmail.com \nRegister here: \nhttps://virginiadsa.networkforgood.com/events/74279-richmond-t21-golf-tournament-2024
URL:https://virginiadsa.org/event/richmond-t21-golf-tournament-2024/
CATEGORIES:Richmond
END:VEVENT
BEGIN:VEVENT
DTSTART;TZID=America/New_York:20241108T123000
DTEND;TZID=America/New_York:20241108T133000
DTSTAMP:20260420T063754
CREATED:20240805T204517Z
LAST-MODIFIED:20240805T204517Z
UID:10001020-1731069000-1731072600@virginiadsa.org
SUMMARY:Richmond - Painting Class
DESCRIPTION:Richmond – Painting Class in Midlothian \n\nFridays\n12:30 to 1:30 pm\n$15 per person\nOpen to All Friends with Disabilities\nSept. 13\, Oct. 18\, Nov. 8 & Dec. 13\nArt Factory\, 4810 Market Square Ln\, Midlothian\n\nRegister here: \nhttps://virginiadsa.networkforgood.com/events/71081-richmond-painting-classes-at-the-art-factory-fall-2024
URL:https://virginiadsa.org/event/richmond-painting-class-2/
CATEGORIES:Richmond
END:VEVENT
END:VCALENDAR