BEGIN:VCALENDAR
VERSION:2.0
PRODID:-//Virginia Down Syndrome Association - ECPv6.15.17.1//NONSGML v1.0//EN
CALSCALE:GREGORIAN
METHOD:PUBLISH
X-ORIGINAL-URL:https://virginiadsa.org
X-WR-CALDESC:Events for Virginia Down Syndrome Association
REFRESH-INTERVAL;VALUE=DURATION:PT1H
X-Robots-Tag:noindex
X-PUBLISHED-TTL:PT1H
BEGIN:VTIMEZONE
TZID:America/New_York
BEGIN:DAYLIGHT
TZOFFSETFROM:-0500
TZOFFSETTO:-0400
TZNAME:EDT
DTSTART:20240310T070000
END:DAYLIGHT
BEGIN:STANDARD
TZOFFSETFROM:-0400
TZOFFSETTO:-0500
TZNAME:EST
DTSTART:20241103T060000
END:STANDARD
BEGIN:DAYLIGHT
TZOFFSETFROM:-0500
TZOFFSETTO:-0400
TZNAME:EDT
DTSTART:20250309T070000
END:DAYLIGHT
BEGIN:STANDARD
TZOFFSETFROM:-0400
TZOFFSETTO:-0500
TZNAME:EST
DTSTART:20251102T060000
END:STANDARD
BEGIN:DAYLIGHT
TZOFFSETFROM:-0500
TZOFFSETTO:-0400
TZNAME:EDT
DTSTART:20260308T070000
END:DAYLIGHT
BEGIN:STANDARD
TZOFFSETFROM:-0400
TZOFFSETTO:-0500
TZNAME:EST
DTSTART:20261101T060000
END:STANDARD
END:VTIMEZONE
BEGIN:VEVENT
DTSTART;TZID=America/New_York:20250215T170000
DTEND;TZID=America/New_York:20250215T200000
DTSTAMP:20260420T050233
CREATED:20250122T162304Z
LAST-MODIFIED:20250122T162304Z
UID:10001228-1739638800-1739649600@virginiadsa.org
SUMMARY:Richmond - Valentine's Family Dance & Potluck
DESCRIPTION:VDSA is pleased to host a Family Valentine’s Dance & Potluck at Christ Church Episcopal on February 15th from 5pm-8pm. All ages are welcome! Please register 1 family per ticket. \nRegister to attend here: https://virginiadsa.networkforgood.com/events/81566-valentines-family-dance-party-potluck \nSign-up to bring a dish here: https://www.signupgenius.com/go/5080D4DA8AC22A3F49-54458419-valentines
URL:https://virginiadsa.org/event/richmond-valentines-family-dance-potluck/
CATEGORIES:Event,Family,Richmond,Social
END:VEVENT
END:VCALENDAR