BEGIN:VCALENDAR
VERSION:2.0
PRODID:-//Virginia Down Syndrome Association - ECPv6.15.17.1//NONSGML v1.0//EN
CALSCALE:GREGORIAN
METHOD:PUBLISH
X-WR-CALNAME:Virginia Down Syndrome Association
X-ORIGINAL-URL:https://virginiadsa.org
X-WR-CALDESC:Events for Virginia Down Syndrome Association
REFRESH-INTERVAL;VALUE=DURATION:PT1H
X-Robots-Tag:noindex
X-PUBLISHED-TTL:PT1H
BEGIN:VTIMEZONE
TZID:America/New_York
BEGIN:DAYLIGHT
TZOFFSETFROM:-0500
TZOFFSETTO:-0400
TZNAME:EDT
DTSTART:20240310T070000
END:DAYLIGHT
BEGIN:STANDARD
TZOFFSETFROM:-0400
TZOFFSETTO:-0500
TZNAME:EST
DTSTART:20241103T060000
END:STANDARD
BEGIN:DAYLIGHT
TZOFFSETFROM:-0500
TZOFFSETTO:-0400
TZNAME:EDT
DTSTART:20250309T070000
END:DAYLIGHT
BEGIN:STANDARD
TZOFFSETFROM:-0400
TZOFFSETTO:-0500
TZNAME:EST
DTSTART:20251102T060000
END:STANDARD
BEGIN:DAYLIGHT
TZOFFSETFROM:-0500
TZOFFSETTO:-0400
TZNAME:EDT
DTSTART:20260308T070000
END:DAYLIGHT
BEGIN:STANDARD
TZOFFSETFROM:-0400
TZOFFSETTO:-0500
TZNAME:EST
DTSTART:20261101T060000
END:STANDARD
END:VTIMEZONE
BEGIN:VEVENT
DTSTART;TZID=America/New_York:20250613T123000
DTEND;TZID=America/New_York:20250613T133000
DTSTAMP:20260420T081127
CREATED:20250302T220301Z
LAST-MODIFIED:20250304T144412Z
UID:10001318-1749817800-1749821400@virginiadsa.org
SUMMARY:Richmond – Painting Class
DESCRIPTION:Every other Friday During the Summer Months \n12:30 to 1:30 pm \n$15 per person \nOpen to All Friends with Disabilities \nDates: June 13 & 27 – July 11 & 25 – August 8 & 22 \nArt Factory\, 4810 Market Square Ln\, Midlothian \nRegister here: \nhttps://virginiadsa.networkforgood.com/events/83873-richmond-painting-classes-at-the-art-factory-summer-2025 \n  \n 
URL:https://virginiadsa.org/event/richmond-painting-class-in-midlothian-2/
LOCATION:VA
CATEGORIES:Charlottesville,Event,Richmond,Social
END:VEVENT
BEGIN:VEVENT
DTSTART;TZID=America/New_York:20250613T180000
DTEND;TZID=America/New_York:20250613T200000
DTSTAMP:20260420T081127
CREATED:20250606T131631Z
LAST-MODIFIED:20250606T132043Z
UID:10002247-1749837600-1749844800@virginiadsa.org
SUMMARY:Summer Movie Pop Up
DESCRIPTION:VDSA and Capernaum Go to the Movies \nGet ready for an evening with VDSA and Capernaum at Regal West Tower Theater for the long-awaited live action film “How to Train Your Dragon!” \n\nRegister Here: https://virginiadsa.networkforgood.com/events/87999-summer-movie-pop-up
URL:https://virginiadsa.org/event/summer-movie-pop-up/
LOCATION:Regal West Tower\, Regal West Tower\, Richmond\, Virginia\, 23294
CATEGORIES:Event,Fun4Life - Ages 21+,FunQuest (Ages 13-20),Moms,Richmond,Social
END:VEVENT
END:VCALENDAR