BEGIN:VCALENDAR
VERSION:2.0
PRODID:-//Virginia Down Syndrome Association - ECPv6.15.17.1//NONSGML v1.0//EN
CALSCALE:GREGORIAN
METHOD:PUBLISH
X-WR-CALNAME:Virginia Down Syndrome Association
X-ORIGINAL-URL:https://virginiadsa.org
X-WR-CALDESC:Events for Virginia Down Syndrome Association
REFRESH-INTERVAL;VALUE=DURATION:PT1H
X-Robots-Tag:noindex
X-PUBLISHED-TTL:PT1H
BEGIN:VTIMEZONE
TZID:America/New_York
BEGIN:DAYLIGHT
TZOFFSETFROM:-0500
TZOFFSETTO:-0400
TZNAME:EDT
DTSTART:20240310T070000
END:DAYLIGHT
BEGIN:STANDARD
TZOFFSETFROM:-0400
TZOFFSETTO:-0500
TZNAME:EST
DTSTART:20241103T060000
END:STANDARD
BEGIN:DAYLIGHT
TZOFFSETFROM:-0500
TZOFFSETTO:-0400
TZNAME:EDT
DTSTART:20250309T070000
END:DAYLIGHT
BEGIN:STANDARD
TZOFFSETFROM:-0400
TZOFFSETTO:-0500
TZNAME:EST
DTSTART:20251102T060000
END:STANDARD
BEGIN:DAYLIGHT
TZOFFSETFROM:-0500
TZOFFSETTO:-0400
TZNAME:EDT
DTSTART:20260308T070000
END:DAYLIGHT
BEGIN:STANDARD
TZOFFSETFROM:-0400
TZOFFSETTO:-0500
TZNAME:EST
DTSTART:20261101T060000
END:STANDARD
END:VTIMEZONE
BEGIN:VEVENT
DTSTART;TZID=America/New_York:20250601T140000
DTEND;TZID=America/New_York:20250601T160000
DTSTAMP:20260420T091626
CREATED:20250504T115437Z
LAST-MODIFIED:20250519T135426Z
UID:10001652-1748786400-1748793600@virginiadsa.org
SUMMARY:Tri-City - Family Day Out
DESCRIPTION:Family Day Out\n\nJoin us for a stroll along the riverwalk (1 way path with only 1 exit to stop our elopers and enjoy the walk). After walk\, we can play on the playgrounds. Next\, we can walk up to City Point Ice Cream and Burgers for some dinner and/or dessert (236 E. Broadway Hopewell). \n\nRegister Here: https://virginiadsa.networkforgood.com/events/86748-tri-city-family-day-out
URL:https://virginiadsa.org/event/tri-city-family-day-out/
LOCATION:Hopewell Riverwalk\, 205 Appomattox St\, Hopewell\, VA\, 23860
CATEGORIES:Event,Family,Fun4Life - Ages 21+,FunQuest (Ages 13-20),Hands Up - (Ages baby to 5),TriCities
END:VEVENT
BEGIN:VEVENT
DTSTART;TZID=America/New_York:20250619T140000
DTEND;TZID=America/New_York:20250619T170000
DTSTAMP:20260420T091626
CREATED:20250614T160151Z
LAST-MODIFIED:20250614T160539Z
UID:10002251-1750341600-1750352400@virginiadsa.org
SUMMARY:Tri-City - Taylor Park Farm
DESCRIPTION:Family Fun at Taylor Farm Park \nJoin VDSA Tri-cities for outdoor fun at Taylor Farm Park. A one-of-a-kind park\, features include a Nature Play Area\, Water Play\, Event Lawn\, and Memorial Area. \nRegister Here: https://virginiadsa.networkforgood.com/events/88135-tri-city-taylor-park-farm
URL:https://virginiadsa.org/event/tri-city-taylor-park-farm/
LOCATION:Taylor Park Farm\, 200 Whiteside Rd Sandston\, Sandstone\, VA\, 23150
CATEGORIES:21 Shades of Virginia,Adventurers (Ages 6 to 12),Caregiver Support,Event,Family,Fredericksburg,Fun4Life - Ages 21+,FunQuest (Ages 13-20),Hands Up - (Ages baby to 5),Hispanic,Latinos,Moms,Richmond,Social,TriCities,Williamsburg
END:VEVENT
BEGIN:VEVENT
DTSTART;TZID=America/New_York:20250630T101500
DTEND;TZID=America/New_York:20250630T123000
DTSTAMP:20260420T091626
CREATED:20250618T224913Z
LAST-MODIFIED:20250618T224913Z
UID:10002263-1751278500-1751286600@virginiadsa.org
SUMMARY:Tri-cities Cinema Cafe Summer Series
DESCRIPTION:Get ready for a fun-filled morning at the Cinema Cafe Summer Series! Join VDSA Tri-cities for a movie at Cinema Cafe located at 12010 Bermuda Crossroad Lane in Chester on June 30th from 10:30 am to 12:30 pm! Bring some cash if you’d like to grab some food or snacks from their menu – it’s always a good idea to come hungry! We’re super excited to share this experience with you and can’t wait to see you there!  We’re looking forward to a fantastic morning of movies and socializing! 🎉 \nRegister Here: https://virginiadsa.networkforgood.com/events/88095-cinema-cafe-summer-series
URL:https://virginiadsa.org/event/tri-cities-cinema-cafe-summer-series/
LOCATION:Cinema Cafe\, 12010 Bermuda Crossroad Lane\, Chester\, va\, 23831
CATEGORIES:21 Shades of Virginia,Event,Family,Grandparents,Hispanic,Latinos,Moms,Social,TriCities
END:VEVENT
END:VCALENDAR