BEGIN:VCALENDAR
VERSION:2.0
PRODID:-//Virginia Down Syndrome Association - ECPv6.15.17.1//NONSGML v1.0//EN
CALSCALE:GREGORIAN
METHOD:PUBLISH
X-WR-CALNAME:Virginia Down Syndrome Association
X-ORIGINAL-URL:https://virginiadsa.org
X-WR-CALDESC:Events for Virginia Down Syndrome Association
REFRESH-INTERVAL;VALUE=DURATION:PT1H
X-Robots-Tag:noindex
X-PUBLISHED-TTL:PT1H
BEGIN:VTIMEZONE
TZID:America/New_York
BEGIN:DAYLIGHT
TZOFFSETFROM:-0500
TZOFFSETTO:-0400
TZNAME:EDT
DTSTART:20250309T070000
END:DAYLIGHT
BEGIN:STANDARD
TZOFFSETFROM:-0400
TZOFFSETTO:-0500
TZNAME:EST
DTSTART:20251102T060000
END:STANDARD
BEGIN:DAYLIGHT
TZOFFSETFROM:-0500
TZOFFSETTO:-0400
TZNAME:EDT
DTSTART:20260308T070000
END:DAYLIGHT
BEGIN:STANDARD
TZOFFSETFROM:-0400
TZOFFSETTO:-0500
TZNAME:EST
DTSTART:20261101T060000
END:STANDARD
BEGIN:DAYLIGHT
TZOFFSETFROM:-0500
TZOFFSETTO:-0400
TZNAME:EDT
DTSTART:20270314T070000
END:DAYLIGHT
BEGIN:STANDARD
TZOFFSETFROM:-0400
TZOFFSETTO:-0500
TZNAME:EST
DTSTART:20271107T060000
END:STANDARD
END:VTIMEZONE
BEGIN:VEVENT
DTSTART;TZID=America/New_York:20260131T150000
DTEND;TZID=America/New_York:20260131T170000
DTSTAMP:20260419T091519
CREATED:20251230T141649Z
LAST-MODIFIED:20251230T204926Z
UID:10002659-1769871600-1769878800@virginiadsa.org
SUMMARY:Tri-cities Bowling Night
DESCRIPTION:Tri-cities Bowling Night\n\nCome bowl with us. Choose 1 game or more. $5.50/ per game per person and $4.50 for shoes. \nPayment to the bowling alley when you are finished. \n\nJanuary 31st\, 2026 @ 3:00PM — 5:00PM \nHoliday Bowl: 11400 Jefferson Hwy\, Chester VA \n$5.50 per game per person \nIf you have any questions\, please feel to contact Mindi Freds\, Tri-Cities Community Coordinator \nmindi_freds@yahoo.com or 217-892-2932 \n\n\nRegister Here: TriCities Holiday Bowl – Family Style
URL:https://virginiadsa.org/event/tri-cities-bowling-night/
LOCATION:Holiday Bowl\, 11400 Jefferson Davis Highway\, Chester\, 23237\, United States
CATEGORIES:Family,Richmond,TriCities
END:VEVENT
END:VCALENDAR