BEGIN:VCALENDAR
VERSION:2.0
PRODID:-//Virginia Down Syndrome Association - ECPv6.15.17.1//NONSGML v1.0//EN
CALSCALE:GREGORIAN
METHOD:PUBLISH
X-WR-CALNAME:Virginia Down Syndrome Association
X-ORIGINAL-URL:https://virginiadsa.org
X-WR-CALDESC:Events for Virginia Down Syndrome Association
REFRESH-INTERVAL;VALUE=DURATION:PT1H
X-Robots-Tag:noindex
X-PUBLISHED-TTL:PT1H
BEGIN:VTIMEZONE
TZID:America/New_York
BEGIN:DAYLIGHT
TZOFFSETFROM:-0500
TZOFFSETTO:-0400
TZNAME:EDT
DTSTART:20220313T070000
END:DAYLIGHT
BEGIN:STANDARD
TZOFFSETFROM:-0400
TZOFFSETTO:-0500
TZNAME:EST
DTSTART:20221106T060000
END:STANDARD
BEGIN:DAYLIGHT
TZOFFSETFROM:-0500
TZOFFSETTO:-0400
TZNAME:EDT
DTSTART:20230312T070000
END:DAYLIGHT
BEGIN:STANDARD
TZOFFSETFROM:-0400
TZOFFSETTO:-0500
TZNAME:EST
DTSTART:20231105T060000
END:STANDARD
BEGIN:DAYLIGHT
TZOFFSETFROM:-0500
TZOFFSETTO:-0400
TZNAME:EDT
DTSTART:20240310T070000
END:DAYLIGHT
BEGIN:STANDARD
TZOFFSETFROM:-0400
TZOFFSETTO:-0500
TZNAME:EST
DTSTART:20241103T060000
END:STANDARD
END:VTIMEZONE
BEGIN:VEVENT
DTSTART;TZID=America/New_York:20230712T100000
DTEND;TZID=America/New_York:20230712T120000
DTSTAMP:20260419T205018
CREATED:20230419T150659Z
LAST-MODIFIED:20230419T150659Z
UID:10000365-1689156000-1689163200@virginiadsa.org
SUMMARY:Fredericksburg Summer Meetup - Alum Springs Park
DESCRIPTION:Fredericksburg Summer Meetups\nJoin us this summer for informal meetups! \n\nAll start at 10 am. Cancelled if raining. \n\nJuly 12 – Alum Springs Park for playground and creek play- 1 Greenbrier Dr.\, Fredericksburg\, VA 22401\nJuly 29 – Chichester Park meet up – 125 Ralph Williams Dr\, Fredericksburg\, VA 22405\nAugust 7 – Salem Church Library – Grow A Reader playroom. – Spotsylvania County at 2607 Salem Church Road\, Fredericksburg\, VA 22407.\nAugust 26 – Riverfront Park meetup – 713 Sophia St\, Fredericksburg\, VA 22401\n\nRegister here: https://virginiadsa.networkforgood.com/events/56480-fredericksburg-summer-meetups
URL:https://virginiadsa.org/event/fredericksburg-summer-meetup-alum-springs-park/
LOCATION:VA
CATEGORIES:Family,Fredericksburg
END:VEVENT
BEGIN:VEVENT
DTSTART;TZID=America/New_York:20230711T100000
DTEND;TZID=America/New_York:20230711T120000
DTSTAMP:20260419T205018
CREATED:20230425T195332Z
LAST-MODIFIED:20230425T195418Z
UID:10000390-1689069600-1689076800@virginiadsa.org
SUMMARY:3 Day Adventure Camp - ages 14 plus
DESCRIPTION:3 Day Adventure Camp – ages 14 plus\n3 Day Adventure Camp – July 10\, July 11 and July 12 \n3 Day Adventure Camp – July 31\, August 1 & August 2 \nJoin us for a 3 Day Adventure Camp led by Beyond Boundaries. Space is limited. Ages 14 to adult. \n\nPontoon Boat on ride on the James Rivers – 10 am – 12 pm\nFishing – local pond – 10 – 12 pm\nRiver Rafting on the James Rivers – 10 am – 1 pm.\n\n\nA VDSA staff member will be present with participants the entire time. Outdoor various locations – James River and fishing location too be announced. \nBeyond Boundaries is a non-profit based in Richmond\, Virginia specializing in guiding participants with disabilities\, veterans\, at risk youth\, and recovery programs on outdoor adventures. \nRegister for Adventure Camp here
URL:https://virginiadsa.org/event/3-day-adventure-camp-ages-14-plus-2/
LOCATION:VA
CATEGORIES:Fun4Life - Ages 21+,FunQuest (Ages 13-20),Richmond
END:VEVENT
BEGIN:VEVENT
DTSTART;TZID=America/New_York:20230710T100000
DTEND;TZID=America/New_York:20230710T120000
DTSTAMP:20260419T205018
CREATED:20230425T200214Z
LAST-MODIFIED:20230425T200214Z
UID:10000391-1688983200-1688990400@virginiadsa.org
SUMMARY:3 Day Adventure Camp - ages 14 plus
DESCRIPTION:3 Day Adventure Camp – ages 14 plus\n3 Day Adventure Camp – July 10\, July 11 and July 12 \n3 Day Adventure Camp – July 31\, August 1 & August 2 \nJoin us for a 3 Day Adventure Camp led by Beyond Boundaries. Space is limited. Ages 14 to adult. \n\nPontoon Boat on ride on the James Rivers – 10 am – 12 pm\nFishing – local pond – 10 – 12 pm\nRiver Rafting on the James Rivers – 10 am – 1 pm.\n\n\nA VDSA staff member will be present with participants the entire time. Outdoor various locations – James River and fishing location too be announced. \nBeyond Boundaries is a non-profit based in Richmond\, Virginia specializing in guiding participants with disabilities\, veterans\, at risk youth\, and recovery programs on outdoor adventures. \nRegister for Adventure Camp here
URL:https://virginiadsa.org/event/3-day-adventure-camp-ages-14-plus-3/
LOCATION:VA
CATEGORIES:Fun4Life - Ages 21+,FunQuest (Ages 13-20),Richmond
END:VEVENT
BEGIN:VEVENT
DTSTART;TZID=America/New_York:20230709T140000
DTEND;TZID=America/New_York:20230709T160000
DTSTAMP:20260419T205018
CREATED:20230509T153721Z
LAST-MODIFIED:20230509T153721Z
UID:10000407-1688911200-1688918400@virginiadsa.org
SUMMARY:Let's Play Together At The Virginia Discovery Museum - Charlottesville
DESCRIPTION:Let’s Play Together At The Virginia Discovery Museum \nJuly 9 – 2:00-4:00 pm – \n524 E Main S\, Charlottesville \nVDSA will have the entire museum. All ages welcome. \nNo charge. \nSign up here: \nhttps://virginiadsa.networkforgood.com/events/57281-let-s-play-together-at-the-virginia-discovery-museum-charlottesville
URL:https://virginiadsa.org/event/lets-play-together-at-the-virginia-discovery-museum-charlottesville/
LOCATION:VA
CATEGORIES:Charlottesville,Family
END:VEVENT
BEGIN:VEVENT
DTSTART;TZID=America/New_York:20230708T160000
DTEND;TZID=America/New_York:20230708T164500
DTSTAMP:20260419T205018
CREATED:20230425T191207Z
LAST-MODIFIED:20230425T191207Z
UID:10000383-1688832000-1688834700@virginiadsa.org
SUMMARY:River City Inclusive Gym - 4:00 - 4:45 pm - 13 to Adult
DESCRIPTION:River City Inclusive Gym for Virginia Down Syndrome Association \n3:00 – 3:45 pm – Ages 2 to 12\n4:00 – 4:45 pm – 13 to Adult\n$5 per class \nJuly 8\, Aug. 5\nSign up for each individually. Choose the dates that work in your schedule. \nRiver City Inclusive Gym class is designed to engage each athlete physically and mentally. Each class is set in obstacle course format. This provides us optimum opportunity to instruct 1:1 while the whole group stays engaged. Upon entering the gym\, the athletes begin their first course right away. As they go through the course\, every obstacle or piece of equipment is adapted to meet individual needs if necessary. After 15 minutes the class takes a water break before beginning the next course. \nRegister here: https://virginiadsa.networkforgood.com/events/55826-river-city-inclusive-gym
URL:https://virginiadsa.org/event/river-city-inclusive-gym-400-445-pm-13-to-adult-2/
LOCATION:VA
CATEGORIES:Fun4Life - Ages 21+,FunQuest (Ages 13-20),Richmond
END:VEVENT
BEGIN:VEVENT
DTSTART;TZID=America/New_York:20230708T150000
DTEND;TZID=America/New_York:20230708T154500
DTSTAMP:20260419T205018
CREATED:20230425T191052Z
LAST-MODIFIED:20230425T191052Z
UID:10000382-1688828400-1688831100@virginiadsa.org
SUMMARY:River City Inclusive Gym - 3:00 - 3:45 pm - Ages 2 to 12
DESCRIPTION:River City Inclusive Gym for Virginia Down Syndrome Association \n3:00 – 3:45 pm – Ages 2 to 12\n4:00 – 4:45 pm – 13 to Adult\n$5 per class\nJuly 8\, Aug. 5\nSign up for each individually. Choose the dates that work in your schedule. \nRiver City Inclusive Gym class is designed to engage each athlete physically and mentally. Each class is set in obstacle course format. This provides us optimum opportunity to instruct 1:1 while the whole group stays engaged. Upon entering the gym\, the athletes begin their first course right away. As they go through the course\, every obstacle or piece of equipment is adapted to meet individual needs if necessary. After 15 minutes the class takes a water break before beginning the next course. \nRegister here: https://virginiadsa.networkforgood.com/events/55826-river-city-inclusive-gym
URL:https://virginiadsa.org/event/river-city-inclusive-gym-300-345-pm-ages-2-to-12-2/
LOCATION:VA
CATEGORIES:Hands Up - (Ages baby to 5),Richmond
END:VEVENT
BEGIN:VEVENT
DTSTART;TZID=America/New_York:20230707T183000
DTEND;TZID=America/New_York:20230707T203000
DTSTAMP:20260419T205018
CREATED:20230425T194614Z
LAST-MODIFIED:20230425T194614Z
UID:10000388-1688754600-1688761800@virginiadsa.org
SUMMARY:RVA Moms' Night Out
DESCRIPTION:RVA Moms’ Night Out at Can Can Brasserie\, 3120 W Cary St\, Richmond\, Virginia 23221 \n\n\nJuly 7\, 2023 @ 6:30PM — 8:30PM \n\n\nRegister here: https://virginiadsa.networkforgood.com/events/56621-richmond-moms-night-out-july-2023 \n  \n 
URL:https://virginiadsa.org/event/rva-moms-night-out/
LOCATION:VA
CATEGORIES:Moms,Richmond
END:VEVENT
BEGIN:VEVENT
DTSTART;TZID=America/New_York:20230705T200000
DTEND;TZID=America/New_York:20230705T210000
DTSTAMP:20260419T205018
CREATED:20230118T165723Z
LAST-MODIFIED:20230127T183500Z
UID:10000244-1688587200-1688590800@virginiadsa.org
SUMMARY:21 Shades (Black Family Support Group) - Virtual
DESCRIPTION:21 Shades (Black Family Support Group) \nPlease join the Virginia Down Syndrome Associations monthly 21 Shades of Virginial Black Family Support Group. \nThe group\, 21 shades of Virginia\, is a support group created after an expressed need in support of families expecting or raising a Black/interracial child with Down Syndrome. \nThe purpose of this group is to create a safe space for the Black Community to network\, collaborate\, create and share information while building meaningful connections. \nUpon registration you will be sent a link to Zoom. \nIf you have any questions\, please feel free to reach out to Raena Gradford\, rgradford@virginiadsa.org. \n\n\n\nFeb. 1\, March 1\, April 5 & May 3\n\n\nRegister here: https://virginiadsa.salsalabs.org/21ShadesMonthlySupportGroupforBlackFamilies
URL:https://virginiadsa.org/event/21-shades-black-family-support-group-virtual/2023-07-05/
LOCATION:VA
CATEGORIES:21 Shades of Virginia,Black History Month,Virtual
END:VEVENT
BEGIN:VEVENT
DTSTART;VALUE=DATE:20230704
DTEND;VALUE=DATE:20230705
DTSTAMP:20260419T205018
CREATED:20230425T201357Z
LAST-MODIFIED:20230425T201357Z
UID:10000393-1688428800-1688515199@virginiadsa.org
SUMMARY:Happy July 4th!
DESCRIPTION:
URL:https://virginiadsa.org/event/happy-july-4th/
LOCATION:VA
END:VEVENT
BEGIN:VEVENT
DTSTART;TZID=America/New_York:20230629T160000
DTEND;TZID=America/New_York:20230629T180000
DTSTAMP:20260419T205018
CREATED:20230419T233947Z
LAST-MODIFIED:20230419T234055Z
UID:10000375-1688054400-1688061600@virginiadsa.org
SUMMARY:Summer Pontoon Boat Ride
DESCRIPTION:Summer Pontoon Boat Rides \n\n\nJune 29\, 2023 and July 25@ 4:00PM — 6:00PM Eastern Time (US & Canada) \n\n\n\n  \n\nOsborne Park & Boat Landing 9530 Osborne Tpke\nRichmond\, VA 23231 \n\nRegister here: https://virginiadsa.networkforgood.com/events/56527-summer-pontoon-boat-rides
URL:https://virginiadsa.org/event/summer-pontoon-boat-ride/
LOCATION:VA
CATEGORIES:Fun4Life - Ages 21+,FunQuest (Ages 13-20),Richmond
END:VEVENT
BEGIN:VEVENT
DTSTART;TZID=America/New_York:20230628T190000
DTEND;TZID=America/New_York:20230628T203000
DTSTAMP:20260419T205018
CREATED:20230531T124434Z
LAST-MODIFIED:20230531T124434Z
UID:10000426-1687978800-1687984200@virginiadsa.org
SUMMARY:Caring for the Caregiver Speaker Series: All About Waivers
DESCRIPTION:
URL:https://virginiadsa.org/event/caring-for-the-caregiver-speaker-series-all-about-waivers/
LOCATION:Zoom
END:VEVENT
BEGIN:VEVENT
DTSTART;TZID=America/New_York:20230627T090000
DTEND;TZID=America/New_York:20230627T120000
DTSTAMP:20260419T205018
CREATED:20230511T191024Z
LAST-MODIFIED:20230511T191338Z
UID:10000411-1687856400-1687867200@virginiadsa.org
SUMMARY:Summer Fun Pop Up - Red\, White and Blue Day!
DESCRIPTION:We are so excited for this new summer program! \n\nAges 13 to adult\nTuesdays\, 9:00 am to Noon\nJune 13 to Aug. 8 (no meeting on July 4)\n8 weeks\nSign up individually or for all 8 weeks\n$10 per week or $70 for all eight.\nVirginia Down Syndrome Association staff at each weekly program\nPrograms led by Sandra Thompson from Sandra L. Thompson & Associates.\nScholarships available.\nEmail Dana at dzedd@virginiadsa.org for more information.\n\nDates\, Location and Theme \n\nTuesday\, June 27 – 9am-Noon\n\nLocation: Creative Approach Development Center\, 2819 N Parham Rd Suite 150\, Richmond\, VA 23294\nTheme: Red\, White and Blue Day! Celebrate July 4ht! Crafts\, Hotdogs\, Chips and Fireworks (on tv)!\n\n\n\n  \nSign up and see all dates and themes here: \nhttps://virginiadsa.networkforgood.com/events/57346-summer-fun-pop-ups
URL:https://virginiadsa.org/event/summer-fun-pop-up-nature-day-and-scavenger-hunt/
LOCATION:VA
CATEGORIES:Fun4Life - Ages 21+,FunQuest (Ages 13-20),Richmond
END:VEVENT
BEGIN:VEVENT
DTSTART;TZID=America/New_York:20230626T110000
DTEND;TZID=America/New_York:20230626T210000
DTSTAMP:20260419T205018
CREATED:20230609T003206Z
LAST-MODIFIED:20230609T162919Z
UID:10000485-1687777200-1687813200@virginiadsa.org
SUMMARY:Sedona Taphouse - Colonial Heights Dine out for VDSA
DESCRIPTION:Every Monday in June 2023\, enjoy 50% off a great meal at Sedona Taphouse while doing your part for charity. \nColonial Heights Location Only!  435 Charles H Dimmock Pkwy\, Colonial Heights\, VA 23834 \nFor every HALF PRICE 8 oz. Black Angus Flat Iron Steak\, or 7 oz. Norwegian Salmon entrée sold\, \nSedona Taphouse will donate $1 to the Virginia Down Syndrome Association. \nRules: You must dine in on a Monday at the Colonial Heights location\, purchase a beverage\, and the promotion is limited to one entrée per person. \nYou can’t beat that!
URL:https://virginiadsa.org/event/sedona-taphouse-colonial-heights-dine-out-for-vdsa/2023-06-26/
LOCATION:VA
CATEGORIES:Richmond
END:VEVENT
BEGIN:VEVENT
DTSTART;TZID=America/New_York:20230625T103000
DTEND;TZID=America/New_York:20230625T123000
DTSTAMP:20260419T205018
CREATED:20230509T153938Z
LAST-MODIFIED:20230509T153938Z
UID:10000406-1687689000-1687696200@virginiadsa.org
SUMMARY:Picnic & Polo at King Family Winery 
DESCRIPTION:Picnic & Polo at King Family Winery  \nJune 25 – 10:30 am \n6550 Roseland Farm\, Crozet\, VA 22932 \nYou are welcome to stay for the Polo match starting at noon. \nSign up here: \nhttps://virginiadsa.networkforgood.com/events/57246-picnic-and-polo
URL:https://virginiadsa.org/event/picnic-polo-at-king-family-winery/
LOCATION:VA
CATEGORIES:Charlottesville,Family
END:VEVENT
BEGIN:VEVENT
DTSTART;TZID=America/New_York:20230624T100000
DTEND;TZID=America/New_York:20230624T120000
DTSTAMP:20260419T205018
CREATED:20230419T123530Z
LAST-MODIFIED:20230419T123530Z
UID:10000364-1687600800-1687608000@virginiadsa.org
SUMMARY:Fredericksburg - Rockwater Park
DESCRIPTION:June 24 – Rockwater Park \nThe splash pad is open at Rockwater Park – 421 Madison Road\, Culpeper\, VA\n \n10:00 – 12:00\, Culpeper. Bring towels and get ready to get wet! \n  \n  \nSign up here: https://virginiadsa.networkforgood.com/events/56460-fredericksburg-summer-picnic-in-the-park-and-rockwater-park
URL:https://virginiadsa.org/event/fredericksburg-rockwater-park/
LOCATION:VA
CATEGORIES:Family,Fredericksburg
END:VEVENT
BEGIN:VEVENT
DTSTART;TZID=America/New_York:20230623T183000
DTEND;TZID=America/New_York:20230623T203000
DTSTAMP:20260419T205018
CREATED:20230425T201157Z
LAST-MODIFIED:20230605T160359Z
UID:10000392-1687545000-1687552200@virginiadsa.org
SUMMARY:Summer Dinner & Dance Party - 18+
DESCRIPTION:Summer Dinner & Dance Party – 18+ \n\n\nJune 23\, 2023 @ 6:30PM — 8:30PM  at St. Michael’s Catholic Church\, 4491 Springfield Road Glen Allen\, Virginia 23060 \n\n\n\n\nThe Virginia Down Syndrome Association (VDSA) is excited to bring back (post Covid) Dinner and Dance Party for adults with Down syndrome. This is fun dress up evening. \nThe dinner will be potluck. VDSA will provide rotisserie chicken as the main dish. After you register\, you will be sent a Sign Up Genius link to bring a salad\, side dish\, dessert or drinks. \nParents who would like to stay during the dance will sit in a separate area than the dance party. \nRegister here: https://virginiadsa.networkforgood.com/events/56618-summer-dinner-dance-party
URL:https://virginiadsa.org/event/summer-dinner-dance-party-18/
LOCATION:VA
CATEGORIES:Fun4Life - Ages 21+,Richmond
END:VEVENT
BEGIN:VEVENT
DTSTART;TZID=America/New_York:20230621T120000
DTEND;TZID=America/New_York:20230621T210000
DTSTAMP:20260419T205018
CREATED:20230609T163247Z
LAST-MODIFIED:20230609T171337Z
UID:10000486-1687348800-1687381200@virginiadsa.org
SUMMARY:Sweet Frog - Dine out for VDSA
DESCRIPTION: 
URL:https://virginiadsa.org/event/sweet-frog-dine-out-for-vdsa/
LOCATION:VA
END:VEVENT
BEGIN:VEVENT
DTSTART;TZID=America/New_York:20230620T090000
DTEND;TZID=America/New_York:20230620T120000
DTSTAMP:20260419T205018
CREATED:20230511T191356Z
LAST-MODIFIED:20230511T193226Z
UID:10000412-1687251600-1687262400@virginiadsa.org
SUMMARY:Summer Fun Pop Up - Nature Day and Scavenger Hunt
DESCRIPTION:We are so excited for this new summer program! \n\nAges 13 to adult\nTuesdays\, 9:00 am to Noon\nJune 13 to Aug. 8 (no meeting on July 4)\n8 weeks\nSign up individually or for all 8 weeks\n$10 per week or $70 for all eight.\nVirginia Down Syndrome Association staff at each weekly program\nPrograms led by Sandra Thompson from Sandra L. Thompson & Associates.\nScholarships available.\nEmail Dana at dzedd@virginiadsa.org for more information.\n\nDates\, Locations and Themes \n\nTuesday\, June 20 – 9am – Noon\n\nLocation: Rockwood Park\, Shelter 4\, 3401 Courthouse Rd\, North Chesterfield\, VA 23236\nTheme: Nature Day and scavenger hunt. Join us for a nature scavenger hunt and make bird feeders to hang in the park and take one home.\n\n\n\nSign up and see all dates and themes here: \nhttps://virginiadsa.networkforgood.com/events/57346-summer-fun-pop-ups
URL:https://virginiadsa.org/event/summer-fun-pop-up-nature-day-and-scavenger-hunt-2/
LOCATION:VA
CATEGORIES:Fun4Life - Ages 21+,FunQuest (Ages 13-20),Richmond
END:VEVENT
BEGIN:VEVENT
DTSTART;TZID=America/New_York:20230619T110000
DTEND;TZID=America/New_York:20230619T210000
DTSTAMP:20260419T205018
CREATED:20230609T003206Z
LAST-MODIFIED:20230609T162919Z
UID:10000484-1687172400-1687208400@virginiadsa.org
SUMMARY:Sedona Taphouse - Colonial Heights Dine out for VDSA
DESCRIPTION:Every Monday in June 2023\, enjoy 50% off a great meal at Sedona Taphouse while doing your part for charity. \nColonial Heights Location Only!  435 Charles H Dimmock Pkwy\, Colonial Heights\, VA 23834 \nFor every HALF PRICE 8 oz. Black Angus Flat Iron Steak\, or 7 oz. Norwegian Salmon entrée sold\, \nSedona Taphouse will donate $1 to the Virginia Down Syndrome Association. \nRules: You must dine in on a Monday at the Colonial Heights location\, purchase a beverage\, and the promotion is limited to one entrée per person. \nYou can’t beat that!
URL:https://virginiadsa.org/event/sedona-taphouse-colonial-heights-dine-out-for-vdsa/2023-06-19/
LOCATION:VA
CATEGORIES:Richmond
END:VEVENT
BEGIN:VEVENT
DTSTART;VALUE=DATE:20230619
DTEND;VALUE=DATE:20230620
DTSTAMP:20260419T205018
CREATED:20230512T194719Z
LAST-MODIFIED:20230512T194719Z
UID:10000425-1687132800-1687219199@virginiadsa.org
SUMMARY:Juneteenth
DESCRIPTION:
URL:https://virginiadsa.org/event/juneteenth/
LOCATION:VA
END:VEVENT
BEGIN:VEVENT
DTSTART;VALUE=DATE:20230618
DTEND;VALUE=DATE:20230619
DTSTAMP:20260419T205018
CREATED:20230512T194612Z
LAST-MODIFIED:20230512T194612Z
UID:10000424-1687046400-1687132799@virginiadsa.org
SUMMARY:Happy Father's Day
DESCRIPTION:
URL:https://virginiadsa.org/event/happy-fathers-day/
LOCATION:VA
END:VEVENT
BEGIN:VEVENT
DTSTART;TZID=America/New_York:20230617T100000
DTEND;TZID=America/New_York:20230617T120000
DTSTAMP:20260419T205018
CREATED:20230425T192415Z
LAST-MODIFIED:20230425T192415Z
UID:10000387-1686996000-1687003200@virginiadsa.org
SUMMARY:Art in the Park - baby to 12
DESCRIPTION:Art in the Park \nTimes: \n10:00 am – 11:00 am – baby to 5 years old \n11:00 to 12:00 pm – ages 6 to 12 years old \nArt on Wheels will lead the art projects.  Siblings\, grandparents\, etc. welcome! \nPark Locations: \nSaturday\, June 17 – Park Soar 465 – 3600 Saunders Ave\, Richmond\, VA 23227 \nContact Dana Zedd with questions at dzedd@virginiadsa.org\nRegister: https://virginiadsa.networkforgood.com/events/56297-art-in-the-park
URL:https://virginiadsa.org/event/art-in-the-park-baby-to-12/
LOCATION:VA
CATEGORIES:Adventurers (Ages 6 to 12),Hands Up - (Ages baby to 5),Richmond,Social
END:VEVENT
BEGIN:VEVENT
DTSTART;TZID=America/New_York:20230616T190000
DTEND;TZID=America/New_York:20230616T203000
DTSTAMP:20260419T205018
CREATED:20230419T160448Z
LAST-MODIFIED:20230419T160448Z
UID:10000369-1686942000-1686947400@virginiadsa.org
SUMMARY:Fredericksburg Moms' Night Out
DESCRIPTION:Fredericksburg Moms’ Night Out \nJune 16\, 2023 @ 7:00PM — 8:30PM Eastern Time (US & Canada) \n\n\n \n\nPanera 1760 Carl D Silver Pkwy\nFredericksburg\, VA 22401 \n\nRSVP here: https://virginiadsa.networkforgood.com/events/56486-fredericksburg-moms-night-out-june16-2023
URL:https://virginiadsa.org/event/fredericksburg-moms-night-out-4/
LOCATION:VA
CATEGORIES:Fredericksburg,Moms
END:VEVENT
BEGIN:VEVENT
DTSTART;TZID=America/New_York:20230616T170000
DTEND;TZID=America/New_York:20230616T190000
DTSTAMP:20260419T205018
CREATED:20230419T172434Z
LAST-MODIFIED:20230419T172600Z
UID:10000372-1686934800-1686942000@virginiadsa.org
SUMMARY:Children's Museum - Free Special Night
DESCRIPTION:Children’s Museum – Free Special Night\nJoin VDSA and the disability community at the Children’s Museum of Richmond at both locations – downtown and Midlothian. These nights are FREE admission\, reduced noise\, lower lighting\, sensory activities and cool down area. \nAll ages and siblings welcome! \n  \nFriday\, June 16\, 5:00-7:00 PM – Chesterfield location\, 6629 Lake Harbour Dr.\, Midlothian\, VA 23112 \nFriday\, July 21\, 5:00- 7:00 PM – Downtown location\, 2626 West Broad St.\, Richmond\, VA 23220 \nRegister here: https://virginiadsa.networkforgood.com/events/56502-children-s-museum-free-special-nights
URL:https://virginiadsa.org/event/4678/
LOCATION:VA
CATEGORIES:Family,Richmond
END:VEVENT
BEGIN:VEVENT
DTSTART;TZID=America/New_York:20230615T183000
DTEND;TZID=America/New_York:20230615T203000
DTSTAMP:20260419T205018
CREATED:20230425T191839Z
LAST-MODIFIED:20230425T191839Z
UID:10000386-1686853800-1686861000@virginiadsa.org
SUMMARY:RVA Dads' Outing at Top Golf
DESCRIPTION:RVA Dads’ Outing at Top Golf \nJune 15\, 2023 @ 6:30PM — 8:30PM \n\n\n \n\nTop Golf 308 Westwood Ave\nRichmond\, VA 23230 \nRegister here: https://virginiadsa.networkforgood.com/events/56497-rva-dads-outing-at-top-golf
URL:https://virginiadsa.org/event/rva-dads-outing-at-top-golf-2/
LOCATION:VA
CATEGORIES:DADS (Dads Appreciating Down Syndrome),Richmond
END:VEVENT
BEGIN:VEVENT
DTSTART;TZID=America/New_York:20230613T090000
DTEND;TZID=America/New_York:20230613T120000
DTSTAMP:20260419T205018
CREATED:20230511T190859Z
LAST-MODIFIED:20230511T193137Z
UID:10000410-1686646800-1686657600@virginiadsa.org
SUMMARY:Summer Fun Pop Up - Ice Cream Social
DESCRIPTION:We are so excited for this new summer program! \n\nAges 13 to adult\nTuesdays\, 9:00 am to Noon\nJune 13 to Aug. 8 (no meeting on July 4)\n8 weeks\nSign up individually or for all 8 weeks\n$10 per week or $70 for all eight.\nVirginia Down Syndrome Association staff at each weekly program\nPrograms led by Sandra Thompson from Sandra L. Thompson & Associates.\nScholarships available.\nEmail Dana at dzedd@virginiadsa.org for more information.\n\nDates\, Locations and Themes \n\nTuesday\, June 13 – 9am-Noon\n\nLocation: Virginia Down Syndrome Association\, Activity Room\, 1504 Santa Rosa Rd\, Richmond\, 23229\nTheme: Ice Cream Social & Game Day. Kicking off the Summer pop ups with games and ice cream!  An enjoyable gathering\, making\, and eating ice cream\, and fun cooperative games.\n\n\n\nSign up and see all dates and themes here: \nhttps://virginiadsa.networkforgood.com/events/57346-summer-fun-pop-ups
URL:https://virginiadsa.org/event/summer-fun-pop-up/
LOCATION:VA
CATEGORIES:Fun4Life - Ages 21+,FunQuest (Ages 13-20),Richmond
END:VEVENT
BEGIN:VEVENT
DTSTART;TZID=America/New_York:20230612T110000
DTEND;TZID=America/New_York:20230612T210000
DTSTAMP:20260419T205018
CREATED:20230609T003206Z
LAST-MODIFIED:20230609T162919Z
UID:10000483-1686567600-1686603600@virginiadsa.org
SUMMARY:Sedona Taphouse - Colonial Heights Dine out for VDSA
DESCRIPTION:Every Monday in June 2023\, enjoy 50% off a great meal at Sedona Taphouse while doing your part for charity. \nColonial Heights Location Only!  435 Charles H Dimmock Pkwy\, Colonial Heights\, VA 23834 \nFor every HALF PRICE 8 oz. Black Angus Flat Iron Steak\, or 7 oz. Norwegian Salmon entrée sold\, \nSedona Taphouse will donate $1 to the Virginia Down Syndrome Association. \nRules: You must dine in on a Monday at the Colonial Heights location\, purchase a beverage\, and the promotion is limited to one entrée per person. \nYou can’t beat that!
URL:https://virginiadsa.org/event/sedona-taphouse-colonial-heights-dine-out-for-vdsa/2023-06-12/
LOCATION:VA
CATEGORIES:Richmond
END:VEVENT
BEGIN:VEVENT
DTSTART;TZID=America/New_York:20230610T160000
DTEND;TZID=America/New_York:20230610T164500
DTSTAMP:20260419T205018
CREATED:20230425T191011Z
LAST-MODIFIED:20230425T191135Z
UID:10000381-1686412800-1686415500@virginiadsa.org
SUMMARY:River City Inclusive Gym - 4:00 - 4:45 pm - 13 to Adult
DESCRIPTION:River City Inclusive Gym for Virginia Down Syndrome Association \n3:00 – 3:45 pm – Ages 2 to 12\n4:00 – 4:45 pm – 13 to Adult\n$5 per class\nJune 10\, July 8\, Aug. 5\nSign up for each individually. Choose the dates that work in your schedule. \nRiver City Inclusive Gym class is designed to engage each athlete physically and mentally. Each class is set in obstacle course format. This provides us optimum opportunity to instruct 1:1 while the whole group stays engaged. Upon entering the gym\, the athletes begin their first course right away. As they go through the course\, every obstacle or piece of equipment is adapted to meet individual needs if necessary. After 15 minutes the class takes a water break before beginning the next course. \nRegister here: https://virginiadsa.networkforgood.com/events/55826-river-city-inclusive-gym
URL:https://virginiadsa.org/event/river-city-inclusive-gym-400-445-pm-13-to-adult/
LOCATION:VA
CATEGORIES:Fun4Life - Ages 21+,FunQuest (Ages 13-20),Richmond
END:VEVENT
BEGIN:VEVENT
DTSTART;TZID=America/New_York:20230610T150000
DTEND;TZID=America/New_York:20230610T154500
DTSTAMP:20260419T205018
CREATED:20230425T190927Z
LAST-MODIFIED:20230425T190927Z
UID:10000380-1686409200-1686411900@virginiadsa.org
SUMMARY:River City Inclusive Gym - 3:00 - 3:45 pm - Ages 2 to 12
DESCRIPTION:River City Inclusive Gym for Virginia Down Syndrome Association \n3:00 – 3:45 pm – Ages 2 to 12\n4:00 – 4:45 pm – 13 to Adult\n$5 per class\nJune 10\, July 8\, Aug. 5\nSign up for each individually. Choose the dates that work in your schedule. \nRiver City Inclusive Gym class is designed to engage each athlete physically and mentally. Each class is set in obstacle course format. This provides us optimum opportunity to instruct 1:1 while the whole group stays engaged. Upon entering the gym\, the athletes begin their first course right away. As they go through the course\, every obstacle or piece of equipment is adapted to meet individual needs if necessary. After 15 minutes the class takes a water break before beginning the next course. \nRegister here: https://virginiadsa.networkforgood.com/events/55826-river-city-inclusive-gym
URL:https://virginiadsa.org/event/river-city-inclusive-gym-300-345-pm-ages-2-to-12/
LOCATION:VA
CATEGORIES:Hands Up - (Ages baby to 5),Richmond
END:VEVENT
BEGIN:VEVENT
DTSTART;TZID=America/New_York:20230606T113000
DTEND;TZID=America/New_York:20230606T133000
DTSTAMP:20260419T205018
CREATED:20230419T121519Z
LAST-MODIFIED:20230419T123321Z
UID:10000363-1686051000-1686058200@virginiadsa.org
SUMMARY:Fredericksburg Summer Picnic
DESCRIPTION:June 6 – Picnic in the Park \n11:30 – 1:30 pm\, Memorial Park \nEnjoy music & carnival games! \nRegister here: https://virginiadsa.networkforgood.com/events/56460-fredericksburg-summer-picnic-in-the-park \n 
URL:https://virginiadsa.org/event/fredericksburg-summer-picnic/
LOCATION:VA
CATEGORIES:Family,Fredericksburg
END:VEVENT
END:VCALENDAR