BEGIN:VCALENDAR
VERSION:2.0
PRODID:-//Virginia Down Syndrome Association - ECPv6.15.17.1//NONSGML v1.0//EN
CALSCALE:GREGORIAN
METHOD:PUBLISH
X-WR-CALNAME:Virginia Down Syndrome Association
X-ORIGINAL-URL:https://virginiadsa.org
X-WR-CALDESC:Events for Virginia Down Syndrome Association
REFRESH-INTERVAL;VALUE=DURATION:PT1H
X-Robots-Tag:noindex
X-PUBLISHED-TTL:PT1H
BEGIN:VTIMEZONE
TZID:America/New_York
BEGIN:DAYLIGHT
TZOFFSETFROM:-0500
TZOFFSETTO:-0400
TZNAME:EDT
DTSTART:20230312T070000
END:DAYLIGHT
BEGIN:STANDARD
TZOFFSETFROM:-0400
TZOFFSETTO:-0500
TZNAME:EST
DTSTART:20231105T060000
END:STANDARD
BEGIN:DAYLIGHT
TZOFFSETFROM:-0500
TZOFFSETTO:-0400
TZNAME:EDT
DTSTART:20240310T070000
END:DAYLIGHT
BEGIN:STANDARD
TZOFFSETFROM:-0400
TZOFFSETTO:-0500
TZNAME:EST
DTSTART:20241103T060000
END:STANDARD
BEGIN:DAYLIGHT
TZOFFSETFROM:-0500
TZOFFSETTO:-0400
TZNAME:EDT
DTSTART:20250309T070000
END:DAYLIGHT
BEGIN:STANDARD
TZOFFSETFROM:-0400
TZOFFSETTO:-0500
TZNAME:EST
DTSTART:20251102T060000
END:STANDARD
END:VTIMEZONE
BEGIN:VEVENT
DTSTART;TZID=America/New_York:20240914T133000
DTEND;TZID=America/New_York:20240914T153000
DTSTAMP:20260420T095845
CREATED:20240722T192913Z
LAST-MODIFIED:20240722T192913Z
UID:10000978-1726320600-1726327800@virginiadsa.org
SUMMARY:Williamsburg/Newport News Virginia Living Museum
DESCRIPTION:Ages 4 and older are welcome to join VDSA at the Virginia Living Museum.  Meet in the private party room and take a self-guided tour. Thanks to the Junior Women’s Club of Williamsburg for sponsoring this.  Limited to 3o people.  Please RSVP.  Thank you Williamsburg/Newport News trip to Virginia Living Museum
URL:https://virginiadsa.org/event/williamsburg-newport-news-virginia-living-museum/
LOCATION:VA
CATEGORIES:Williamsburg
END:VEVENT
END:VCALENDAR